 BEGIN:VCALENDAR
VERSION:2.0
PRODID:-//Access Health CT - ECPv6.3.2//NONSGML v1.0//EN
CALSCALE:GREGORIAN
METHOD:PUBLISH
X-WR-CALNAME:Access Health CT
X-ORIGINAL-URL:https://www.uat3.accesshealthct.com
X-WR-CALDESC:Events for Access Health CT
REFRESH-INTERVAL;VALUE=DURATION:PT1H
X-Robots-Tag:noindex
X-PUBLISHED-TTL:PT1H
BEGIN:VTIMEZONE
TZID:UTC
BEGIN:STANDARD
TZOFFSETFROM:+0000
TZOFFSETTO:+0000
TZNAME:UTC
DTSTART:20220101T000000
END:STANDARD
END:VTIMEZONE
BEGIN:VEVENT
DTSTART;TZID=UTC:20221005T090000
DTEND;TZID=UTC:20221005T090000
DTSTAMP:20260423T002311
CREATED:20220929T152610Z
LAST-MODIFIED:20220929T152610Z
UID:10000026-1664960400-1664960400@www.uat3.accesshealthct.com
SUMMARY:Hamden Know Your Numbers
DESCRIPTION:
URL:https://www.uat3.accesshealthct.com/event/hamden-know-your-numbers/
CATEGORIES:Outreach
END:VEVENT
BEGIN:VEVENT
DTSTART;TZID=UTC:20221005T120000
DTEND;TZID=UTC:20221005T120000
DTSTAMP:20260423T002311
CREATED:20220926T185027Z
LAST-MODIFIED:20220929T152610Z
UID:10000023-1664971200-1664971200@www.uat3.accesshealthct.com
SUMMARY:Gateway CC Fresh Check Day
DESCRIPTION:
URL:https://www.uat3.accesshealthct.com/event/gateway-cc-fresh-check-day/
CATEGORIES:Outreach
END:VEVENT
END:VCALENDAR