 BEGIN:VCALENDAR
VERSION:2.0
PRODID:-//Access Health CT - ECPv6.3.2//NONSGML v1.0//EN
CALSCALE:GREGORIAN
METHOD:PUBLISH
X-WR-CALNAME:Access Health CT
X-ORIGINAL-URL:https://www.uat3.accesshealthct.com
X-WR-CALDESC:Events for Access Health CT
REFRESH-INTERVAL;VALUE=DURATION:PT1H
X-Robots-Tag:noindex
X-PUBLISHED-TTL:PT1H
BEGIN:VTIMEZONE
TZID:UTC
BEGIN:STANDARD
TZOFFSETFROM:+0000
TZOFFSETTO:+0000
TZNAME:UTC
DTSTART:20220101T000000
END:STANDARD
END:VTIMEZONE
BEGIN:VEVENT
DTSTART;TZID=UTC:20221006T113000
DTEND;TZID=UTC:20221006T113000
DTSTAMP:20260423T002318
CREATED:20220929T152610Z
LAST-MODIFIED:20220929T152610Z
UID:10000027-1665055800-1665055800@www.uat3.accesshealthct.com
SUMMARY:Capital Community College Resource Fair
DESCRIPTION:
URL:https://www.uat3.accesshealthct.com/event/capital-community-college-resource-fair/
CATEGORIES:Outreach
END:VEVENT
BEGIN:VEVENT
DTSTART;TZID=UTC:20221006T180000
DTEND;TZID=UTC:20221006T180000
DTSTAMP:20260423T002318
CREATED:20221006T123405Z
LAST-MODIFIED:20221006T123405Z
UID:10000033-1665079200-1665079200@www.uat3.accesshealthct.com
SUMMARY:The Healthy Brain Series for Black & African Americans
DESCRIPTION:
URL:https://www.uat3.accesshealthct.com/event/the-healthy-brain-series-for-black-african-americans/
CATEGORIES:Outreach
END:VEVENT
END:VCALENDAR