 BEGIN:VCALENDAR
VERSION:2.0
PRODID:-//Access Health CT - ECPv6.3.2//NONSGML v1.0//EN
CALSCALE:GREGORIAN
METHOD:PUBLISH
X-WR-CALNAME:Access Health CT
X-ORIGINAL-URL:https://www.uat3.accesshealthct.com
X-WR-CALDESC:Events for Access Health CT
REFRESH-INTERVAL;VALUE=DURATION:PT1H
X-Robots-Tag:noindex
X-PUBLISHED-TTL:PT1H
BEGIN:VTIMEZONE
TZID:UTC
BEGIN:STANDARD
TZOFFSETFROM:+0000
TZOFFSETTO:+0000
TZNAME:UTC
DTSTART:20220101T000000
END:STANDARD
END:VTIMEZONE
BEGIN:VEVENT
DTSTART;TZID=UTC:20221008T120000
DTEND;TZID=UTC:20221008T120000
DTSTAMP:20260423T002317
CREATED:20220926T185028Z
LAST-MODIFIED:20220926T185028Z
UID:10000024-1665230400-1665230400@www.uat3.accesshealthct.com
SUMMARY:Main Street U.S.A.
DESCRIPTION:
URL:https://www.uat3.accesshealthct.com/event/main-street-u-s-a/
CATEGORIES:Outreach
END:VEVENT
END:VCALENDAR