 BEGIN:VCALENDAR
VERSION:2.0
PRODID:-//Access Health CT - ECPv6.3.2//NONSGML v1.0//EN
CALSCALE:GREGORIAN
METHOD:PUBLISH
X-ORIGINAL-URL:https://www.uat3.accesshealthct.com
X-WR-CALDESC:Events for Access Health CT
REFRESH-INTERVAL;VALUE=DURATION:PT1H
X-Robots-Tag:noindex
X-PUBLISHED-TTL:PT1H
BEGIN:VTIMEZONE
TZID:UTC
BEGIN:STANDARD
TZOFFSETFROM:+0000
TZOFFSETTO:+0000
TZNAME:UTC
DTSTART:20220101T000000
END:STANDARD
END:VTIMEZONE
BEGIN:VEVENT
DTSTART;TZID=UTC:20221017T133000
DTEND;TZID=UTC:20221017T133000
DTSTAMP:20260423T002419
CREATED:20220926T185041Z
LAST-MODIFIED:20220926T185041Z
UID:10000025-1666013400-1666013400@www.uat3.accesshealthct.com
SUMMARY:Quinnipiac University-Wide Career Fair
DESCRIPTION:
URL:https://www.uat3.accesshealthct.com/event/quinnipiac-university-wide-career-fair/
CATEGORIES:Outreach
END:VEVENT
END:VCALENDAR