 BEGIN:VCALENDAR
VERSION:2.0
PRODID:-//Access Health CT - ECPv6.3.2//NONSGML v1.0//EN
CALSCALE:GREGORIAN
METHOD:PUBLISH
X-WR-CALNAME:Access Health CT
X-ORIGINAL-URL:https://www.uat3.accesshealthct.com
X-WR-CALDESC:Events for Access Health CT
REFRESH-INTERVAL;VALUE=DURATION:PT1H
X-Robots-Tag:noindex
X-PUBLISHED-TTL:PT1H
BEGIN:VTIMEZONE
TZID:America/New_York
BEGIN:DAYLIGHT
TZOFFSETFROM:-0500
TZOFFSETTO:-0400
TZNAME:EDT
DTSTART:20230312T070000
END:DAYLIGHT
BEGIN:STANDARD
TZOFFSETFROM:-0400
TZOFFSETTO:-0500
TZNAME:EST
DTSTART:20231105T060000
END:STANDARD
END:VTIMEZONE
BEGIN:VEVENT
DTSTART;TZID=America/New_York:20230110T170000
DTEND;TZID=America/New_York:20230110T200000
DTSTAMP:20260422T171816
CREATED:20221103T142957Z
LAST-MODIFIED:20221115T145841Z
UID:10000138-1673370000-1673380800@www.uat3.accesshealthct.com
SUMMARY:Vernon Center Middle School Enrollment Fair
DESCRIPTION:Vernon\, 777 Hartford Turnpike\, 06066
URL:https://www.uat3.accesshealthct.com/event/vernon-center-middle-school-enrollment-fair-5/
CATEGORIES:Enrollment Fairs
END:VEVENT
BEGIN:VEVENT
DTSTART;TZID=America/New_York:20230110T180000
DTEND;TZID=America/New_York:20230110T190000
DTSTAMP:20260422T171816
CREATED:20230106T143354Z
LAST-MODIFIED:20230111T095231Z
UID:10000153-1673373600-1673377200@www.uat3.accesshealthct.com
SUMMARY:Broker Academy Informational Zoom Call
DESCRIPTION:
URL:https://www.uat3.accesshealthct.com/event/broker-academy-informational-zoom-call/
CATEGORIES:Broker Academy,Outreach
END:VEVENT
END:VCALENDAR