 BEGIN:VCALENDAR
VERSION:2.0
PRODID:-//Access Health CT - ECPv6.3.2//NONSGML v1.0//EN
CALSCALE:GREGORIAN
METHOD:PUBLISH
X-ORIGINAL-URL:https://www.uat3.accesshealthct.com
X-WR-CALDESC:Events for Access Health CT
REFRESH-INTERVAL;VALUE=DURATION:PT1H
X-Robots-Tag:noindex
X-PUBLISHED-TTL:PT1H
BEGIN:VTIMEZONE
TZID:America/New_York
BEGIN:DAYLIGHT
TZOFFSETFROM:-0500
TZOFFSETTO:-0400
TZNAME:EDT
DTSTART:20230312T070000
END:DAYLIGHT
BEGIN:STANDARD
TZOFFSETFROM:-0400
TZOFFSETTO:-0500
TZNAME:EST
DTSTART:20231105T060000
END:STANDARD
END:VTIMEZONE
BEGIN:VEVENT
DTSTART;TZID=America/New_York:20230621T090000
DTEND;TZID=America/New_York:20230621T170000
DTSTAMP:20260421T234819
CREATED:20230606T110753Z
LAST-MODIFIED:20230606T110753Z
UID:10000180-1687338000-1687366800@www.uat3.accesshealthct.com
SUMMARY:Tee OFF with Women
DESCRIPTION:Tunxis Community Club\, 87 Town Farm Rd\, Farmington\, CT 06032
URL:https://www.uat3.accesshealthct.com/event/tee-off-with-women/
CATEGORIES:Healthy Chat,Outreach
END:VEVENT
BEGIN:VEVENT
DTSTART;TZID=America/New_York:20230621T180000
DTEND;TZID=America/New_York:20230621T190000
DTSTAMP:20260421T234819
CREATED:20230106T143338Z
LAST-MODIFIED:20230106T143626Z
UID:10000148-1687370400-1687374000@www.uat3.accesshealthct.com
SUMMARY:Virtual Healthy Chat
DESCRIPTION:
URL:https://www.uat3.accesshealthct.com/event/virtual-healthy-chat-6/
CATEGORIES:Healthy Chat,Outreach
END:VEVENT
END:VCALENDAR