 BEGIN:VCALENDAR
VERSION:2.0
PRODID:-//Access Health CT - ECPv6.3.2//NONSGML v1.0//EN
CALSCALE:GREGORIAN
METHOD:PUBLISH
X-ORIGINAL-URL:https://www.uat3.accesshealthct.com
X-WR-CALDESC:Events for Access Health CT
REFRESH-INTERVAL;VALUE=DURATION:PT1H
X-Robots-Tag:noindex
X-PUBLISHED-TTL:PT1H
BEGIN:VTIMEZONE
TZID:America/New_York
BEGIN:DAYLIGHT
TZOFFSETFROM:-0500
TZOFFSETTO:-0400
TZNAME:EDT
DTSTART:20220313T070000
END:DAYLIGHT
BEGIN:STANDARD
TZOFFSETFROM:-0400
TZOFFSETTO:-0500
TZNAME:EST
DTSTART:20221106T060000
END:STANDARD
TZID:UTC
BEGIN:STANDARD
TZOFFSETFROM:+0000
TZOFFSETTO:+0000
TZNAME:UTC
DTSTART:20220101T000000
END:STANDARD
END:VTIMEZONE
BEGIN:VEVENT
DTSTART;TZID=America/New_York:20221018T180000
DTEND;TZID=America/New_York:20221018T193000
DTSTAMP:20260421T120458
CREATED:20221006T164159Z
LAST-MODIFIED:20221012T170637Z
UID:10000034-1666116000-1666121400@www.uat3.accesshealthct.com
SUMMARY:Open Enrollment Healthy Chats for New and Returning Customers (East Hartford)
DESCRIPTION:
URL:https://www.uat3.accesshealthct.com/event/open-enrollment-healthy-chats-for-new-and-returning-customers/
CATEGORIES:Healthy Chat,Marketing
END:VEVENT
BEGIN:VEVENT
DTSTART;TZID=UTC:20221018T180000
DTEND;TZID=UTC:20221018T193000
DTSTAMP:20260421T120458
CREATED:20221006T164159Z
LAST-MODIFIED:20221018T193812Z
UID:10000039-1666116000-1666121400@www.uat3.accesshealthct.com
SUMMARY:Charlas Saludables acerca del Periodo de Inscripción Anual para clientes nuevos y previos (East Hartford)
DESCRIPTION:
URL:https://www.uat3.accesshealthct.com/event/charlas-saludables-acerca-del-periodo-de-inscripcion-anual-para-clientes-nuevos-y-previos-east-hartford/
CATEGORIES:Healthy Chat Spanish
END:VEVENT
END:VCALENDAR