 BEGIN:VCALENDAR
VERSION:2.0
PRODID:-//Access Health CT - ECPv6.3.2//NONSGML v1.0//EN
CALSCALE:GREGORIAN
METHOD:PUBLISH
X-WR-CALNAME:Access Health CT
X-ORIGINAL-URL:https://www.uat3.accesshealthct.com
X-WR-CALDESC:Events for Access Health CT
REFRESH-INTERVAL;VALUE=DURATION:PT1H
X-Robots-Tag:noindex
X-PUBLISHED-TTL:PT1H
BEGIN:VTIMEZONE
TZID:America/New_York
BEGIN:DAYLIGHT
TZOFFSETFROM:-0500
TZOFFSETTO:-0400
TZNAME:EDT
DTSTART:20230312T070000
END:DAYLIGHT
BEGIN:STANDARD
TZOFFSETFROM:-0400
TZOFFSETTO:-0500
TZNAME:EST
DTSTART:20231105T060000
END:STANDARD
END:VTIMEZONE
BEGIN:VEVENT
DTSTART;TZID=America/New_York:20231115T070000
DTEND;TZID=America/New_York:20231115T190000
DTSTAMP:20260423T113621
CREATED:20231026T085239Z
LAST-MODIFIED:20231026T085334Z
UID:10000253-1700031600-1700074800@www.uat3.accesshealthct.com
SUMMARY:2023 Big Connect
DESCRIPTION:155 Temple St\, New Haven\, CT 06510
URL:https://www.uat3.accesshealthct.com/event/2023-big-connect/
CATEGORIES:Broker Academy,Enrollment Fairs,Outreach
END:VEVENT
BEGIN:VEVENT
DTSTART;TZID=America/New_York:20231115T170000
DTEND;TZID=America/New_York:20231115T200000
DTSTAMP:20260423T113621
CREATED:20231026T085148Z
LAST-MODIFIED:20231106T094927Z
UID:10000235-1700067600-1700078400@www.uat3.accesshealthct.com
SUMMARY:New Haven Open Enrollment Fair
DESCRIPTION:Dixwell Community House (Q House)\nMuseum Room\, 2nd Floor\n197 Dixwell Avenue\, New Haven\, 06511
URL:https://www.uat3.accesshealthct.com/event/new-haven-open-enrollment-fair/
CATEGORIES:Enrollment Fairs
END:VEVENT
BEGIN:VEVENT
DTSTART;TZID=America/New_York:20231202T100000
DTEND;TZID=America/New_York:20231202T130000
DTSTAMP:20260423T113621
CREATED:20231026T085149Z
LAST-MODIFIED:20231026T085149Z
UID:10000236-1701511200-1701522000@www.uat3.accesshealthct.com
SUMMARY:West Hartford Open Enlrollment Fair
DESCRIPTION:20 South Main Street West Hartford\, CT 06107
URL:https://www.uat3.accesshealthct.com/event/west-hartford-open-enlrollment-fair/
CATEGORIES:Enrollment Fairs
END:VEVENT
BEGIN:VEVENT
DTSTART;TZID=America/New_York:20231205T170000
DTEND;TZID=America/New_York:20231205T200000
DTSTAMP:20260423T113621
CREATED:20231026T085149Z
LAST-MODIFIED:20231026T085149Z
UID:10000237-1701795600-1701806400@www.uat3.accesshealthct.com
SUMMARY:Cromwell Open Enrollment Fair
DESCRIPTION:41 West Street Cromwell\, CT 06416
URL:https://www.uat3.accesshealthct.com/event/cromwell-open-enrollment-fair/
CATEGORIES:Enrollment Fairs
END:VEVENT
BEGIN:VEVENT
DTSTART;TZID=America/New_York:20231206T100000
DTEND;TZID=America/New_York:20231206T130000
DTSTAMP:20260423T113621
CREATED:20231026T085150Z
LAST-MODIFIED:20231026T085150Z
UID:10000238-1701856800-1701867600@www.uat3.accesshealthct.com
SUMMARY:Fairfield Open Enrollment Fair
DESCRIPTION:1080 Old Post Road Fairfield\, CT 06824
URL:https://www.uat3.accesshealthct.com/event/fairfield-open-enrollment-fair/
CATEGORIES:Enrollment Fairs
END:VEVENT
BEGIN:VEVENT
DTSTART;TZID=America/New_York:20231206T180000
DTEND;TZID=America/New_York:20231206T190000
DTSTAMP:20260423T113621
CREATED:20231205T120022Z
LAST-MODIFIED:20231205T120119Z
UID:10000254-1701885600-1701889200@www.uat3.accesshealthct.com
SUMMARY:Healthy Chat
DESCRIPTION:Online Zoom
URL:https://www.uat3.accesshealthct.com/event/healthy-chat/
CATEGORIES:Healthy Chat
END:VEVENT
END:VCALENDAR