 BEGIN:VCALENDAR
VERSION:2.0
PRODID:-//Access Health CT - ECPv6.3.2//NONSGML v1.0//EN
CALSCALE:GREGORIAN
METHOD:PUBLISH
X-WR-CALNAME:Access Health CT
X-ORIGINAL-URL:https://www.uat3.accesshealthct.com
X-WR-CALDESC:Events for Access Health CT
REFRESH-INTERVAL;VALUE=DURATION:PT1H
X-Robots-Tag:noindex
X-PUBLISHED-TTL:PT1H
BEGIN:VTIMEZONE
TZID:America/New_York
BEGIN:DAYLIGHT
TZOFFSETFROM:-0500
TZOFFSETTO:-0400
TZNAME:EDT
DTSTART:20240310T070000
END:DAYLIGHT
BEGIN:STANDARD
TZOFFSETFROM:-0400
TZOFFSETTO:-0500
TZNAME:EST
DTSTART:20241103T060000
END:STANDARD
END:VTIMEZONE
BEGIN:VEVENT
DTSTART;TZID=America/New_York:20240103T180000
DTEND;TZID=America/New_York:20240103T190000
DTSTAMP:20260424T140859
CREATED:20231205T120023Z
LAST-MODIFIED:20231205T120106Z
UID:10000256-1704304800-1704308400@www.uat3.accesshealthct.com
SUMMARY:Healthy Chat
DESCRIPTION:Online Zoom
URL:https://www.uat3.accesshealthct.com/event/healthy-chat-3/
CATEGORIES:Healthy Chat
END:VEVENT
BEGIN:VEVENT
DTSTART;TZID=America/New_York:20240104T100000
DTEND;TZID=America/New_York:20240104T130000
DTSTAMP:20260424T140859
CREATED:20231026T085205Z
LAST-MODIFIED:20231026T085205Z
UID:10000242-1704362400-1704373200@www.uat3.accesshealthct.com
SUMMARY:Hamden Open Enrollment Fair
DESCRIPTION:11 Pine Street Hamden\, CT 06514
URL:https://www.uat3.accesshealthct.com/event/hamden-open-enrollment-fair/
CATEGORIES:Enrollment Fairs
END:VEVENT
BEGIN:VEVENT
DTSTART;TZID=America/New_York:20240106T100000
DTEND;TZID=America/New_York:20240106T130000
DTSTAMP:20260424T140859
CREATED:20231026T085205Z
LAST-MODIFIED:20231026T085205Z
UID:10000243-1704535200-1704546000@www.uat3.accesshealthct.com
SUMMARY:Manchester Open Enrollment Fair
DESCRIPTION:100 North Main Street Manchester\, CT 06042
URL:https://www.uat3.accesshealthct.com/event/manchester-open-enrollment-fair/
CATEGORIES:Enrollment Fairs
END:VEVENT
BEGIN:VEVENT
DTSTART;TZID=America/New_York:20240107T100000
DTEND;TZID=America/New_York:20240107T130000
DTSTAMP:20260424T140859
CREATED:20231026T085205Z
LAST-MODIFIED:20231026T085205Z
UID:10000244-1704621600-1704632400@www.uat3.accesshealthct.com
SUMMARY:Stratford Open Enrollment Fair
DESCRIPTION:468 Birdseye Street Stratford\, CT 06615
URL:https://www.uat3.accesshealthct.com/event/stratford-open-enrollment-fair/
CATEGORIES:Enrollment Fairs
END:VEVENT
BEGIN:VEVENT
DTSTART;TZID=America/New_York:20240109T170000
DTEND;TZID=America/New_York:20240109T200000
DTSTAMP:20260424T140859
CREATED:20231026T085223Z
LAST-MODIFIED:20231026T085223Z
UID:10000245-1704819600-1704830400@www.uat3.accesshealthct.com
SUMMARY:Groton Open Enrollment Fair
DESCRIPTION:52 Newtown Road Groton\, CT 06340
URL:https://www.uat3.accesshealthct.com/event/groton-open-enrollment-fair/
CATEGORIES:Enrollment Fairs
END:VEVENT
BEGIN:VEVENT
DTSTART;TZID=America/New_York:20240110T100000
DTEND;TZID=America/New_York:20240110T140000
DTSTAMP:20260424T140859
CREATED:20231026T085224Z
LAST-MODIFIED:20231026T085224Z
UID:10000246-1704880800-1704895200@www.uat3.accesshealthct.com
SUMMARY:Bloomfield Open Enrollment Fair
DESCRIPTION:1170 Blue Hills Avenue Bloomfield\, CT 06002
URL:https://www.uat3.accesshealthct.com/event/bloomfield-open-enrollment-fair/
CATEGORIES:Enrollment Fairs
END:VEVENT
BEGIN:VEVENT
DTSTART;TZID=America/New_York:20240110T180000
DTEND;TZID=America/New_York:20240110T190000
DTSTAMP:20260424T140859
CREATED:20231205T120023Z
LAST-MODIFIED:20231205T120100Z
UID:10000257-1704909600-1704913200@www.uat3.accesshealthct.com
SUMMARY:Healthy Chat
DESCRIPTION:Online Zoom
URL:https://www.uat3.accesshealthct.com/event/healthy-chat-4/
CATEGORIES:Healthy Chat
END:VEVENT
BEGIN:VEVENT
DTSTART;TZID=America/New_York:20240113T100000
DTEND;TZID=America/New_York:20240113T130000
DTSTAMP:20260424T140859
CREATED:20231026T085224Z
LAST-MODIFIED:20231026T085224Z
UID:10000247-1705140000-1705150800@www.uat3.accesshealthct.com
SUMMARY:Milford Open Enrollment Fair
DESCRIPTION:20 Lansdale Avenue Milford\, CT 06460
URL:https://www.uat3.accesshealthct.com/event/milford-open-enrollment-fair/
CATEGORIES:Enrollment Fairs
END:VEVENT
BEGIN:VEVENT
DTSTART;TZID=America/New_York:20240114T100000
DTEND;TZID=America/New_York:20240114T130000
DTSTAMP:20260424T140859
CREATED:20231026T085224Z
LAST-MODIFIED:20231026T085224Z
UID:10000248-1705226400-1705237200@www.uat3.accesshealthct.com
SUMMARY:Hartford Open Enrollment Fair
DESCRIPTION:885 Wethersfield Avenue Hartford\, CT 06114
URL:https://www.uat3.accesshealthct.com/event/hartford-open-enrollment-fair-2/
CATEGORIES:Enrollment Fairs
END:VEVENT
BEGIN:VEVENT
DTSTART;TZID=America/New_York:20240206T180000
DTEND;TZID=America/New_York:20240206T190000
DTSTAMP:20260424T140859
CREATED:20240123T084016Z
LAST-MODIFIED:20240123T084016Z
UID:10000272-1707242400-1707246000@www.uat3.accesshealthct.com
SUMMARY:Broker Academy Info Session
DESCRIPTION:Online Zoom
URL:https://www.uat3.accesshealthct.com/event/broker-academy-info-session/
END:VEVENT
BEGIN:VEVENT
DTSTART;TZID=America/New_York:20240220T180000
DTEND;TZID=America/New_York:20240220T190000
DTSTAMP:20260424T140859
CREATED:20240123T084031Z
LAST-MODIFIED:20240123T084031Z
UID:10000273-1708452000-1708455600@www.uat3.accesshealthct.com
SUMMARY:Broker Academy Info Session
DESCRIPTION:Online Zoom
URL:https://www.uat3.accesshealthct.com/event/broker-academy-info-session-2/
END:VEVENT
BEGIN:VEVENT
DTSTART;TZID=America/New_York:20240221T170000
DTEND;TZID=America/New_York:20240221T200000
DTSTAMP:20260424T140859
CREATED:20240206T125934Z
LAST-MODIFIED:20240206T125934Z
UID:10000276-1708534800-1708545600@www.uat3.accesshealthct.com
SUMMARY:New Britain HUSKY Unwind Enrollment Fair
DESCRIPTION:CCSU – Student Center\, Alumni Hall\, 65 Ella Grasso Blvd\, New Britain\, CT 06053
URL:https://www.uat3.accesshealthct.com/event/new-britain-husky-unwind-enrollment-fair/
END:VEVENT
BEGIN:VEVENT
DTSTART;TZID=America/New_York:20240221T180000
DTEND;TZID=America/New_York:20240221T190000
DTSTAMP:20260424T140859
CREATED:20240123T083956Z
LAST-MODIFIED:20240123T083956Z
UID:10000258-1708538400-1708542000@www.uat3.accesshealthct.com
SUMMARY:Healthy Chat
DESCRIPTION:Online Zoom
URL:https://www.uat3.accesshealthct.com/event/healthy-chat-5/
END:VEVENT
END:VCALENDAR