 BEGIN:VCALENDAR
VERSION:2.0
PRODID:-//Access Health CT - ECPv6.3.2//NONSGML v1.0//EN
CALSCALE:GREGORIAN
METHOD:PUBLISH
X-WR-CALNAME:Access Health CT
X-ORIGINAL-URL:https://www.uat3.accesshealthct.com
X-WR-CALDESC:Events for Access Health CT
REFRESH-INTERVAL;VALUE=DURATION:PT1H
X-Robots-Tag:noindex
X-PUBLISHED-TTL:PT1H
BEGIN:VTIMEZONE
TZID:UTC
BEGIN:STANDARD
TZOFFSETFROM:+0000
TZOFFSETTO:+0000
TZNAME:UTC
DTSTART:20220101T000000
END:STANDARD
END:VTIMEZONE
BEGIN:VEVENT
DTSTART;TZID=UTC:20220925T090000
DTEND;TZID=UTC:20220925T090000
DTSTAMP:20260423T090033
CREATED:20220926T185027Z
LAST-MODIFIED:20220926T185027Z
UID:10000022-1664096400-1664096400@www.uat3.accesshealthct.com
SUMMARY:Domingo Fair - Park St
DESCRIPTION:
URL:https://www.uat3.accesshealthct.com/event/domingo-fair-park-st/
CATEGORIES:Outreach
END:VEVENT
END:VCALENDAR