 BEGIN:VCALENDAR
VERSION:2.0
PRODID:-//Access Health CT - ECPv6.3.2//NONSGML v1.0//EN
CALSCALE:GREGORIAN
METHOD:PUBLISH
X-WR-CALNAME:Access Health CT
X-ORIGINAL-URL:https://www.uat3.accesshealthct.com
X-WR-CALDESC:Events for Access Health CT
REFRESH-INTERVAL;VALUE=DURATION:PT1H
X-Robots-Tag:noindex
X-PUBLISHED-TTL:PT1H
BEGIN:VTIMEZONE
TZID:America/New_York
BEGIN:DAYLIGHT
TZOFFSETFROM:-0500
TZOFFSETTO:-0400
TZNAME:EDT
DTSTART:20230312T070000
END:DAYLIGHT
BEGIN:STANDARD
TZOFFSETFROM:-0400
TZOFFSETTO:-0500
TZNAME:EST
DTSTART:20231105T060000
END:STANDARD
END:VTIMEZONE
BEGIN:VEVENT
DTSTART;TZID=America/New_York:20230118T180000
DTEND;TZID=America/New_York:20230118T190000
DTSTAMP:20260423T075348
CREATED:20230106T143334Z
LAST-MODIFIED:20230106T143819Z
UID:10000143-1674064800-1674068400@www.uat3.accesshealthct.com
SUMMARY:Virtual Healthy Chat
DESCRIPTION:
URL:https://www.uat3.accesshealthct.com/event/virtual-healthy-chat/
CATEGORIES:Healthy Chat,Outreach
END:VEVENT
BEGIN:VEVENT
DTSTART;TZID=America/New_York:20230124T180000
DTEND;TZID=America/New_York:20230124T190000
DTSTAMP:20260423T075348
CREATED:20230106T143355Z
LAST-MODIFIED:20230111T095208Z
UID:10000154-1674583200-1674586800@www.uat3.accesshealthct.com
SUMMARY:Broker Academy Informational Zoom Call
DESCRIPTION:
URL:https://www.uat3.accesshealthct.com/event/broker-academy-informational-zoom-call-2/
CATEGORIES:Broker Academy,Outreach
END:VEVENT
BEGIN:VEVENT
DTSTART;TZID=America/New_York:20230125T110000
DTEND;TZID=America/New_York:20230125T130000
DTSTAMP:20260423T075348
CREATED:20230105T091915Z
LAST-MODIFIED:20230105T091937Z
UID:10000142-1674644400-1674651600@www.uat3.accesshealthct.com
SUMMARY:Student Tabling Event
DESCRIPTION:100 Training Hill Road\, Middletown\, CT 06457
URL:https://www.uat3.accesshealthct.com/event/student-tabling-event/
CATEGORIES:Enrollment Fairs
END:VEVENT
BEGIN:VEVENT
DTSTART;TZID=America/New_York:20230207T180000
DTEND;TZID=America/New_York:20230207T190000
DTSTAMP:20260423T075348
CREATED:20230106T143355Z
LAST-MODIFIED:20230111T095143Z
UID:10000155-1675792800-1675796400@www.uat3.accesshealthct.com
SUMMARY:Broker Academy Informational Zoom Call
DESCRIPTION:
URL:https://www.uat3.accesshealthct.com/event/broker-academy-informational-zoom-call-3/
CATEGORIES:Broker Academy,Outreach
END:VEVENT
BEGIN:VEVENT
DTSTART;TZID=America/New_York:20230215T130000
DTEND;TZID=America/New_York:20230215T163000
DTSTAMP:20260423T075348
CREATED:20230207T082839Z
LAST-MODIFIED:20230207T082839Z
UID:10000159-1676466000-1676478600@www.uat3.accesshealthct.com
SUMMARY:6th Annual Internship\, Career & Job Fair
DESCRIPTION:247 College St\, New Haven\, CT 06510
URL:https://www.uat3.accesshealthct.com/event/6th-annual-internship-career-job-fair/
CATEGORIES:Outreach
END:VEVENT
BEGIN:VEVENT
DTSTART;TZID=America/New_York:20230215T180000
DTEND;TZID=America/New_York:20230215T190000
DTSTAMP:20260423T075348
CREATED:20230106T143335Z
LAST-MODIFIED:20230106T143747Z
UID:10000144-1676484000-1676487600@www.uat3.accesshealthct.com
SUMMARY:Virtual Healthy Chat
DESCRIPTION:
URL:https://www.uat3.accesshealthct.com/event/virtual-healthy-chat-2/
CATEGORIES:Healthy Chat,Outreach
END:VEVENT
BEGIN:VEVENT
DTSTART;TZID=America/New_York:20230216T180000
DTEND;TZID=America/New_York:20230216T200000
DTSTAMP:20260423T075348
CREATED:20230207T082940Z
LAST-MODIFIED:20230207T082940Z
UID:10000160-1676570400-1676577600@www.uat3.accesshealthct.com
SUMMARY:Black Business Expo
DESCRIPTION:1214 Main St\, Hartford\, CT 06103
URL:https://www.uat3.accesshealthct.com/event/black-business-expo/
CATEGORIES:Outreach
END:VEVENT
END:VCALENDAR