 BEGIN:VCALENDAR
VERSION:2.0
PRODID:-//Access Health CT - ECPv6.3.2//NONSGML v1.0//EN
CALSCALE:GREGORIAN
METHOD:PUBLISH
X-WR-CALNAME:Access Health CT
X-ORIGINAL-URL:https://www.uat3.accesshealthct.com
X-WR-CALDESC:Events for Access Health CT
REFRESH-INTERVAL;VALUE=DURATION:PT1H
X-Robots-Tag:noindex
X-PUBLISHED-TTL:PT1H
BEGIN:VTIMEZONE
TZID:UTC
BEGIN:STANDARD
TZOFFSETFROM:+0000
TZOFFSETTO:+0000
TZNAME:UTC
DTSTART:20220101T000000
END:STANDARD
END:VTIMEZONE
BEGIN:VEVENT
DTSTART;TZID=UTC:20220904T090000
DTEND;TZID=UTC:20220904T090000
DTSTAMP:20260423T002647
CREATED:20220926T184957Z
LAST-MODIFIED:20220926T184957Z
UID:10000013-1662282000-1662282000@www.uat3.accesshealthct.com
SUMMARY:Small Biz
DESCRIPTION:
URL:https://www.uat3.accesshealthct.com/event/small-biz/
CATEGORIES:Outreach
END:VEVENT
BEGIN:VEVENT
DTSTART;TZID=UTC:20220910T100000
DTEND;TZID=UTC:20220910T100000
DTSTAMP:20260423T002647
CREATED:20220926T184957Z
LAST-MODIFIED:20220926T184957Z
UID:10000014-1662804000-1662804000@www.uat3.accesshealthct.com
SUMMARY:Connecticare Healthy Futures Expo
DESCRIPTION:
URL:https://www.uat3.accesshealthct.com/event/connecticare-healthy-futures-expo/
CATEGORIES:Outreach
END:VEVENT
BEGIN:VEVENT
DTSTART;TZID=UTC:20220910T100000
DTEND;TZID=UTC:20220910T100000
DTSTAMP:20260423T002647
CREATED:20220926T184958Z
LAST-MODIFIED:20220926T184958Z
UID:10000015-1662804000-1662804000@www.uat3.accesshealthct.com
SUMMARY:11th Annual Health Wellness & Lifestyle Expo 2022
DESCRIPTION:
URL:https://www.uat3.accesshealthct.com/event/11th-annual-health-wellness-lifestyle-expo-2022/
CATEGORIES:Outreach
END:VEVENT
BEGIN:VEVENT
DTSTART;TZID=UTC:20220910T120000
DTEND;TZID=UTC:20220910T120000
DTSTAMP:20260423T002647
CREATED:20220926T185011Z
LAST-MODIFIED:20220926T185011Z
UID:10000016-1662811200-1662811200@www.uat3.accesshealthct.com
SUMMARY:Hartford Pride & Concert
DESCRIPTION:
URL:https://www.uat3.accesshealthct.com/event/hartford-pride-concert/
CATEGORIES:Outreach
END:VEVENT
BEGIN:VEVENT
DTSTART;TZID=UTC:20220910T120000
DTEND;TZID=UTC:20220910T120000
DTSTAMP:20260423T002647
CREATED:20220926T185012Z
LAST-MODIFIED:20220926T185012Z
UID:10000017-1662811200-1662811200@www.uat3.accesshealthct.com
SUMMARY:Fathers Are People Too!
DESCRIPTION:
URL:https://www.uat3.accesshealthct.com/event/fathers-are-people-too/
CATEGORIES:Outreach
END:VEVENT
BEGIN:VEVENT
DTSTART;TZID=UTC:20220917T120000
DTEND;TZID=UTC:20220917T120000
DTSTAMP:20260423T002647
CREATED:20220926T185012Z
LAST-MODIFIED:20220926T185012Z
UID:10000018-1663416000-1663416000@www.uat3.accesshealthct.com
SUMMARY:Community Give Back Day\, People's Bloc Party
DESCRIPTION:
URL:https://www.uat3.accesshealthct.com/event/community-give-back-day-peoples-bloc-party/
CATEGORIES:Outreach
END:VEVENT
BEGIN:VEVENT
DTSTART;TZID=UTC:20220921T100000
DTEND;TZID=UTC:20220921T100000
DTSTAMP:20260423T002647
CREATED:20220926T185013Z
LAST-MODIFIED:20220926T185013Z
UID:10000019-1663754400-1663754400@www.uat3.accesshealthct.com
SUMMARY:CT DOL\, Htfd Athlectic 2nd Annual Veterans & Diversity Hiring Expo
DESCRIPTION:
URL:https://www.uat3.accesshealthct.com/event/ct-dol-htfd-athlectic-2nd-annual-veterans-diversity-hiring-expo/
CATEGORIES:Outreach
END:VEVENT
BEGIN:VEVENT
DTSTART;TZID=UTC:20220924T120000
DTEND;TZID=UTC:20220924T120000
DTSTAMP:20260423T002647
CREATED:20220926T185013Z
LAST-MODIFIED:20220926T185013Z
UID:10000020-1664020800-1664020800@www.uat3.accesshealthct.com
SUMMARY:Windham County Latino Fest
DESCRIPTION:
URL:https://www.uat3.accesshealthct.com/event/windham-county-latino-fest/
CATEGORIES:Outreach
END:VEVENT
BEGIN:VEVENT
DTSTART;TZID=UTC:20220925T090000
DTEND;TZID=UTC:20220925T090000
DTSTAMP:20260423T002647
CREATED:20220926T185027Z
LAST-MODIFIED:20220926T185027Z
UID:10000022-1664096400-1664096400@www.uat3.accesshealthct.com
SUMMARY:Domingo Fair - Park St
DESCRIPTION:
URL:https://www.uat3.accesshealthct.com/event/domingo-fair-park-st/
CATEGORIES:Outreach
END:VEVENT
END:VCALENDAR