 BEGIN:VCALENDAR
VERSION:2.0
PRODID:-//Access Health CT - ECPv6.3.2//NONSGML v1.0//EN
CALSCALE:GREGORIAN
METHOD:PUBLISH
X-ORIGINAL-URL:https://www.uat3.accesshealthct.com
X-WR-CALDESC:Events for Access Health CT
REFRESH-INTERVAL;VALUE=DURATION:PT1H
X-Robots-Tag:noindex
X-PUBLISHED-TTL:PT1H
BEGIN:VTIMEZONE
TZID:America/New_York
BEGIN:DAYLIGHT
TZOFFSETFROM:-0500
TZOFFSETTO:-0400
TZNAME:EDT
DTSTART:20230312T070000
END:DAYLIGHT
BEGIN:STANDARD
TZOFFSETFROM:-0400
TZOFFSETTO:-0500
TZNAME:EST
DTSTART:20231105T060000
END:STANDARD
END:VTIMEZONE
BEGIN:VEVENT
DTSTART;TZID=America/New_York:20230907T100000
DTEND;TZID=America/New_York:20230907T130000
DTSTAMP:20260421T204533
CREATED:20230627T105225Z
LAST-MODIFIED:20230828T125048Z
UID:10000188-1694080800-1694091600@www.uat3.accesshealthct.com
SUMMARY:Medicaid/HUSKY Unwind Enrollment Fair - Willimantic
DESCRIPTION:
URL:https://www.uat3.accesshealthct.com/event/medicaid-husky-unwind-enrollment-fair-willimantic/
CATEGORIES:Broker Academy,Enrollment Events,Outreach
END:VEVENT
BEGIN:VEVENT
DTSTART;TZID=America/New_York:20230908T110000
DTEND;TZID=America/New_York:20230908T140000
DTSTAMP:20260421T204533
CREATED:20230828T124543Z
LAST-MODIFIED:20230829T153833Z
UID:10000214-1694170800-1694181600@www.uat3.accesshealthct.com
SUMMARY:Shepherd Park Apartments' Resident Appreciation Day
DESCRIPTION:Shepherd Park Apartment’s Courtyard\n170 Sisson\, Hartford
URL:https://www.uat3.accesshealthct.com/event/shepherd-park-apartments-resident-appreciation-day/
CATEGORIES:Broker Academy,Outreach
END:VEVENT
BEGIN:VEVENT
DTSTART;TZID=America/New_York:20230909T100000
DTEND;TZID=America/New_York:20230909T140000
DTSTAMP:20260421T204533
CREATED:20230828T124628Z
LAST-MODIFIED:20230828T124628Z
UID:10000215-1694253600-1694268000@www.uat3.accesshealthct.com
SUMMARY:Greater Norwich ACC Healthy Living Festival
DESCRIPTION:Dodd Stadium\, 14 Stott Ave\, Norwich CT 06360
URL:https://www.uat3.accesshealthct.com/event/greater-norwich-acc-healthy-living-festival/
CATEGORIES:Broker Academy,Outreach
END:VEVENT
BEGIN:VEVENT
DTSTART;TZID=America/New_York:20230909T100000
DTEND;TZID=America/New_York:20230909T180000
DTSTAMP:20260421T204533
CREATED:20230828T124707Z
LAST-MODIFIED:20230828T124707Z
UID:10000216-1694253600-1694282400@www.uat3.accesshealthct.com
SUMMARY:12th Annual Health Wellness & Lifestyle Expo 2023
DESCRIPTION:1 Harbor Point Boardwalk\, Stamford
URL:https://www.uat3.accesshealthct.com/event/12th-annual-health-wellness-lifestyle-expo-2023/
CATEGORIES:Broker Academy,Outreach
END:VEVENT
BEGIN:VEVENT
DTSTART;TZID=America/New_York:20230916T110000
DTEND;TZID=America/New_York:20230916T150000
DTSTAMP:20260421T204533
CREATED:20230829T153943Z
LAST-MODIFIED:20230829T153943Z
UID:10000220-1694862000-1694876400@www.uat3.accesshealthct.com
SUMMARY:Hispanic Heritage Day Celebration
DESCRIPTION:110 Cedar Street\, Manchester\, CT
URL:https://www.uat3.accesshealthct.com/event/hispanic-heritage-day-celebration-2/
CATEGORIES:Broker Academy,Outreach
END:VEVENT
BEGIN:VEVENT
DTSTART;TZID=America/New_York:20230917T110000
DTEND;TZID=America/New_York:20230917T160000
DTSTAMP:20260421T204533
CREATED:20230913T091248Z
LAST-MODIFIED:20230913T091248Z
UID:10000221-1694948400-1694966400@www.uat3.accesshealthct.com
SUMMARY:DominGO
DESCRIPTION:Park Street Hartford CT
URL:https://www.uat3.accesshealthct.com/event/domingo-2/
CATEGORIES:Broker Academy,Outreach
END:VEVENT
BEGIN:VEVENT
DTSTART;TZID=America/New_York:20230920T100000
DTEND;TZID=America/New_York:20230920T140000
DTSTAMP:20260421T204533
CREATED:20230913T091354Z
LAST-MODIFIED:20230913T091354Z
UID:10000222-1695204000-1695218400@www.uat3.accesshealthct.com
SUMMARY:Hiring Expo
DESCRIPTION:Trinity Health Stadium\, Hartford\, CT
URL:https://www.uat3.accesshealthct.com/event/hiring-expo/
CATEGORIES:Broker Academy,Outreach
END:VEVENT
BEGIN:VEVENT
DTSTART;TZID=America/New_York:20230920T180000
DTEND;TZID=America/New_York:20230920T190000
DTSTAMP:20260421T204533
CREATED:20230106T143340Z
LAST-MODIFIED:20230106T143555Z
UID:10000151-1695232800-1695236400@www.uat3.accesshealthct.com
SUMMARY:Virtual Healthy Chat
DESCRIPTION:
URL:https://www.uat3.accesshealthct.com/event/virtual-healthy-chat-9/
CATEGORIES:Healthy Chat,Outreach
END:VEVENT
BEGIN:VEVENT
DTSTART;TZID=America/New_York:20230923T100000
DTEND;TZID=America/New_York:20230923T130000
DTSTAMP:20260421T204533
CREATED:20230801T101452Z
LAST-MODIFIED:20230828T125024Z
UID:10000189-1695463200-1695474000@www.uat3.accesshealthct.com
SUMMARY:Medicaid/HUSKY Unwind Enrollment Fair - Vernon
DESCRIPTION:
URL:https://www.uat3.accesshealthct.com/event/medicaid-husky-unwind-enrollment-fair-vernon/
CATEGORIES:Broker Academy,Enrollment Events,Enrollment Fairs,Outreach
END:VEVENT
BEGIN:VEVENT
DTSTART;TZID=America/New_York:20230930T080000
DTEND;TZID=America/New_York:20230930T170000
DTSTAMP:20260421T204533
CREATED:20230828T124952Z
LAST-MODIFIED:20230828T124952Z
UID:10000219-1696060800-1696093200@www.uat3.accesshealthct.com
SUMMARY:Walk to end Alzheimer’s
DESCRIPTION:New Milford Town Green
URL:https://www.uat3.accesshealthct.com/event/walk-to-end-alzheimers/
CATEGORIES:Broker Academy,Outreach
END:VEVENT
END:VCALENDAR