 BEGIN:VCALENDAR
VERSION:2.0
PRODID:-//Access Health CT - ECPv6.3.2//NONSGML v1.0//EN
CALSCALE:GREGORIAN
METHOD:PUBLISH
X-WR-CALNAME:Access Health CT
X-ORIGINAL-URL:https://www.uat3.accesshealthct.com
X-WR-CALDESC:Events for Access Health CT
REFRESH-INTERVAL;VALUE=DURATION:PT1H
X-Robots-Tag:noindex
X-PUBLISHED-TTL:PT1H
BEGIN:VTIMEZONE
TZID:UTC
BEGIN:STANDARD
TZOFFSETFROM:+0000
TZOFFSETTO:+0000
TZNAME:UTC
DTSTART:20220101T000000
END:STANDARD
END:VTIMEZONE
BEGIN:VEVENT
DTSTART;TZID=UTC:20220824T160000
DTEND;TZID=UTC:20220824T160000
DTSTAMP:20260423T072108
CREATED:20220926T184941Z
LAST-MODIFIED:20220926T184941Z
UID:10000006-1661356800-1661356800@www.uat3.accesshealthct.com
SUMMARY:South Marshall St Block Party
DESCRIPTION:
URL:https://www.uat3.accesshealthct.com/event/south-marshall-st-block-party/
CATEGORIES:Outreach
END:VEVENT
BEGIN:VEVENT
DTSTART;TZID=UTC:20220826T130000
DTEND;TZID=UTC:20220826T130000
DTSTAMP:20260423T072108
CREATED:20220926T184941Z
LAST-MODIFIED:20220926T184941Z
UID:10000007-1661518800-1661518800@www.uat3.accesshealthct.com
SUMMARY:Evergreen Family Oriented Tree Inc.
DESCRIPTION:
URL:https://www.uat3.accesshealthct.com/event/evergreen-family-oriented-tree-inc/
CATEGORIES:Outreach
END:VEVENT
BEGIN:VEVENT
DTSTART;TZID=UTC:20220826T150000
DTEND;TZID=UTC:20220826T150000
DTSTAMP:20260423T072108
CREATED:20220926T184941Z
LAST-MODIFIED:20220926T184941Z
UID:10000008-1661526000-1661526000@www.uat3.accesshealthct.com
SUMMARY:Skate Your Way to Health
DESCRIPTION:
URL:https://www.uat3.accesshealthct.com/event/skate-your-way-to-health/
CATEGORIES:Outreach
END:VEVENT
BEGIN:VEVENT
DTSTART;TZID=UTC:20220827T090000
DTEND;TZID=UTC:20220827T090000
DTSTAMP:20260423T072108
CREATED:20220926T184956Z
LAST-MODIFIED:20220926T184956Z
UID:10000011-1661590800-1661590800@www.uat3.accesshealthct.com
SUMMARY:Back to School Extravaganza
DESCRIPTION:
URL:https://www.uat3.accesshealthct.com/event/back-to-school-extravaganza/
CATEGORIES:Outreach
END:VEVENT
BEGIN:VEVENT
DTSTART;TZID=UTC:20220827T100000
DTEND;TZID=UTC:20220827T100000
DTSTAMP:20260423T072108
CREATED:20220926T184942Z
LAST-MODIFIED:20220926T184942Z
UID:10000010-1661594400-1661594400@www.uat3.accesshealthct.com
SUMMARY:St. Augustine Church Picnic
DESCRIPTION:
URL:https://www.uat3.accesshealthct.com/event/st-augustine-church-picnic/
CATEGORIES:Outreach
END:VEVENT
BEGIN:VEVENT
DTSTART;TZID=UTC:20220827T100000
DTEND;TZID=UTC:20220827T100000
DTSTAMP:20260423T072108
CREATED:20220926T184942Z
LAST-MODIFIED:20220926T184942Z
UID:10000009-1661594400-1661594400@www.uat3.accesshealthct.com
SUMMARY:Resource & Recruitment Fair for all Youth Service Providers
DESCRIPTION:
URL:https://www.uat3.accesshealthct.com/event/resource-recruitment-fair-for-all-youth-service-providers/
CATEGORIES:Outreach
END:VEVENT
BEGIN:VEVENT
DTSTART;TZID=UTC:20220828T090000
DTEND;TZID=UTC:20220828T090000
DTSTAMP:20260423T072108
CREATED:20220926T184957Z
LAST-MODIFIED:20220926T184957Z
UID:10000012-1661677200-1661677200@www.uat3.accesshealthct.com
SUMMARY:Domingo Fair
DESCRIPTION:
URL:https://www.uat3.accesshealthct.com/event/domingo-fair/
CATEGORIES:Outreach
END:VEVENT
END:VCALENDAR