 BEGIN:VCALENDAR
VERSION:2.0
PRODID:-//Access Health CT - ECPv6.3.2//NONSGML v1.0//EN
CALSCALE:GREGORIAN
METHOD:PUBLISH
X-WR-CALNAME:Access Health CT
X-ORIGINAL-URL:https://www.uat3.accesshealthct.com
X-WR-CALDESC:Events for Access Health CT
REFRESH-INTERVAL;VALUE=DURATION:PT1H
X-Robots-Tag:noindex
X-PUBLISHED-TTL:PT1H
BEGIN:VTIMEZONE
TZID:UTC
BEGIN:STANDARD
TZOFFSETFROM:+0000
TZOFFSETTO:+0000
TZNAME:UTC
DTSTART:20220101T000000
END:STANDARD
END:VTIMEZONE
BEGIN:VEVENT
DTSTART;TZID=UTC:20221011T090000
DTEND;TZID=UTC:20221011T090000
DTSTAMP:20260423T042015
CREATED:20220929T152611Z
LAST-MODIFIED:20220929T152611Z
UID:10000028-1665478800-1665478800@www.uat3.accesshealthct.com
SUMMARY:2022 Regional Breakfast Conference
DESCRIPTION:
URL:https://www.uat3.accesshealthct.com/event/2022-regional-breakfast-conference/
CATEGORIES:Outreach
END:VEVENT
BEGIN:VEVENT
DTSTART;TZID=UTC:20221012T090000
DTEND;TZID=UTC:20221012T090000
DTSTAMP:20260423T042015
CREATED:20220929T152611Z
LAST-MODIFIED:20220929T152611Z
UID:10000029-1665565200-1665565200@www.uat3.accesshealthct.com
SUMMARY:2022 Regional Breakfast Conference Norwalk
DESCRIPTION:
URL:https://www.uat3.accesshealthct.com/event/2022-regional-breakfast-conference-norwalk/
CATEGORIES:Outreach
END:VEVENT
BEGIN:VEVENT
DTSTART;TZID=UTC:20221013T090000
DTEND;TZID=UTC:20221013T090000
DTSTAMP:20260423T042015
CREATED:20220929T152613Z
LAST-MODIFIED:20220929T152613Z
UID:10000030-1665651600-1665651600@www.uat3.accesshealthct.com
SUMMARY:2022 Regional Breakfast Conference Groton
DESCRIPTION:
URL:https://www.uat3.accesshealthct.com/event/2022-regional-breakfast-conference-groton/
CATEGORIES:Outreach
END:VEVENT
BEGIN:VEVENT
DTSTART;TZID=UTC:20221014T090000
DTEND;TZID=UTC:20221014T090000
DTSTAMP:20260423T042015
CREATED:20220929T152614Z
LAST-MODIFIED:20220929T152614Z
UID:10000031-1665738000-1665738000@www.uat3.accesshealthct.com
SUMMARY:2022 Regional Breakfast Conference New Haven
DESCRIPTION:
URL:https://www.uat3.accesshealthct.com/event/2022-regional-breakfast-conference-new-haven/
CATEGORIES:Outreach
END:VEVENT
END:VCALENDAR