 BEGIN:VCALENDAR
VERSION:2.0
PRODID:-//Access Health CT - ECPv6.3.2//NONSGML v1.0//EN
CALSCALE:GREGORIAN
METHOD:PUBLISH
X-ORIGINAL-URL:https://www.uat3.accesshealthct.com
X-WR-CALDESC:Events for Access Health CT
REFRESH-INTERVAL;VALUE=DURATION:PT1H
X-Robots-Tag:noindex
X-PUBLISHED-TTL:PT1H
BEGIN:VTIMEZONE
TZID:America/New_York
BEGIN:DAYLIGHT
TZOFFSETFROM:-0500
TZOFFSETTO:-0400
TZNAME:EDT
DTSTART:20220313T070000
END:DAYLIGHT
BEGIN:STANDARD
TZOFFSETFROM:-0400
TZOFFSETTO:-0500
TZNAME:EST
DTSTART:20221106T060000
END:STANDARD
END:VTIMEZONE
BEGIN:VEVENT
DTSTART;TZID=America/New_York:20221115T170000
DTEND;TZID=America/New_York:20221115T200000
DTSTAMP:20260423T042049
CREATED:20221103T142925Z
LAST-MODIFIED:20221103T142925Z
UID:10000126-1668531600-1668542400@www.uat3.accesshealthct.com
SUMMARY:West Rock MIddle School Enrollment Fair
DESCRIPTION:Norwalk\, 81 West Rocks Rd\, 06851
URL:https://www.uat3.accesshealthct.com/event/west-rock-middle-school-enrollment-fair-5/
CATEGORIES:Enrollment Fairs
END:VEVENT
END:VCALENDAR