 BEGIN:VCALENDAR
VERSION:2.0
PRODID:-//Access Health CT - ECPv6.3.2//NONSGML v1.0//EN
CALSCALE:GREGORIAN
METHOD:PUBLISH
X-WR-CALNAME:Access Health CT
X-ORIGINAL-URL:https://www.uat3.accesshealthct.com
X-WR-CALDESC:Events for Access Health CT
REFRESH-INTERVAL;VALUE=DURATION:PT1H
X-Robots-Tag:noindex
X-PUBLISHED-TTL:PT1H
BEGIN:VTIMEZONE
TZID:America/New_York
BEGIN:DAYLIGHT
TZOFFSETFROM:-0500
TZOFFSETTO:-0400
TZNAME:EDT
DTSTART:20220313T070000
END:DAYLIGHT
BEGIN:STANDARD
TZOFFSETFROM:-0400
TZOFFSETTO:-0500
TZNAME:EST
DTSTART:20221106T060000
END:STANDARD
END:VTIMEZONE
BEGIN:VEVENT
DTSTART;TZID=America/New_York:20221201T170000
DTEND;TZID=America/New_York:20221201T200000
DTSTAMP:20260422T230502
CREATED:20221103T142926Z
LAST-MODIFIED:20221128T085503Z
UID:10000127-1669914000-1669924800@www.uat3.accesshealthct.com
SUMMARY:Joseph Trapasso Community Room Enrollment Fair
DESCRIPTION:Branford\, 46 Church St\, 06405
URL:https://www.uat3.accesshealthct.com/event/joseph-trasspasso-community-room-enrollment-fair-5/
CATEGORIES:Enrollment Fairs
END:VEVENT
BEGIN:VEVENT
DTSTART;TZID=America/New_York:20221203T100000
DTEND;TZID=America/New_York:20221203T130000
DTSTAMP:20260422T230502
CREATED:20221103T142926Z
LAST-MODIFIED:20221115T144328Z
UID:10000128-1670061600-1670072400@www.uat3.accesshealthct.com
SUMMARY:New Britain Library Enrollment Fair
DESCRIPTION:New Britain\, 20 High Street\, 06051
URL:https://www.uat3.accesshealthct.com/event/new-britain-library-enrollment-fair-5/
CATEGORIES:Enrollment Fairs
END:VEVENT
END:VCALENDAR