 BEGIN:VCALENDAR
VERSION:2.0
PRODID:-//Access Health CT - ECPv6.3.2//NONSGML v1.0//EN
CALSCALE:GREGORIAN
METHOD:PUBLISH
X-ORIGINAL-URL:https://www.uat3.accesshealthct.com
X-WR-CALDESC:Events for Access Health CT
REFRESH-INTERVAL;VALUE=DURATION:PT1H
X-Robots-Tag:noindex
X-PUBLISHED-TTL:PT1H
BEGIN:VTIMEZONE
TZID:America/New_York
BEGIN:DAYLIGHT
TZOFFSETFROM:-0500
TZOFFSETTO:-0400
TZNAME:EDT
DTSTART:20230312T070000
END:DAYLIGHT
BEGIN:STANDARD
TZOFFSETFROM:-0400
TZOFFSETTO:-0500
TZNAME:EST
DTSTART:20231105T060000
END:STANDARD
END:VTIMEZONE
BEGIN:VEVENT
DTSTART;TZID=America/New_York:20230228T120000
DTEND;TZID=America/New_York:20230228T160000
DTSTAMP:20260422T090655
CREATED:20230207T083107Z
LAST-MODIFIED:20230207T083107Z
UID:10000162-1677585600-1677600000@www.uat3.accesshealthct.com
SUMMARY:Manchester Community College
DESCRIPTION:Great Path\, Manchester\, CT
URL:https://www.uat3.accesshealthct.com/event/manchester-community-college/
CATEGORIES:Outreach
END:VEVENT
END:VCALENDAR