 BEGIN:VCALENDAR
VERSION:2.0
PRODID:-//Access Health CT - ECPv6.3.2//NONSGML v1.0//EN
CALSCALE:GREGORIAN
METHOD:PUBLISH
X-WR-CALNAME:Access Health CT
X-ORIGINAL-URL:https://www.uat3.accesshealthct.com
X-WR-CALDESC:Events for Access Health CT
REFRESH-INTERVAL;VALUE=DURATION:PT1H
X-Robots-Tag:noindex
X-PUBLISHED-TTL:PT1H
BEGIN:VTIMEZONE
TZID:America/New_York
BEGIN:DAYLIGHT
TZOFFSETFROM:-0500
TZOFFSETTO:-0400
TZNAME:EDT
DTSTART:20230312T070000
END:DAYLIGHT
BEGIN:STANDARD
TZOFFSETFROM:-0400
TZOFFSETTO:-0500
TZNAME:EST
DTSTART:20231105T060000
END:STANDARD
END:VTIMEZONE
BEGIN:VEVENT
DTSTART;TZID=America/New_York:20230815T100000
DTEND;TZID=America/New_York:20230815T130000
DTSTAMP:20260422T020923
CREATED:20230627T105224Z
LAST-MODIFIED:20230627T105224Z
UID:10000187-1692093600-1692104400@www.uat3.accesshealthct.com
SUMMARY:Medicaid/HUSKY Unwind Enrollment Fair - Middletown
DESCRIPTION:
URL:https://www.uat3.accesshealthct.com/event/medicaid-husky-unwind-enrollment-fair-middletown/
END:VEVENT
BEGIN:VEVENT
DTSTART;TZID=America/New_York:20230815T100000
DTEND;TZID=America/New_York:20230815T130000
DTSTAMP:20260422T020923
CREATED:20230801T101454Z
LAST-MODIFIED:20230801T101454Z
UID:10000194-1692093600-1692104400@www.uat3.accesshealthct.com
SUMMARY:HPS Back to School
DESCRIPTION:
URL:https://www.uat3.accesshealthct.com/event/hps-back-to-school/
END:VEVENT
BEGIN:VEVENT
DTSTART;TZID=America/New_York:20230816T110000
DTEND;TZID=America/New_York:20230816T150000
DTSTAMP:20260422T020923
CREATED:20230828T124808Z
LAST-MODIFIED:20230828T124808Z
UID:10000217-1692183600-1692198000@www.uat3.accesshealthct.com
SUMMARY:Hispanic Heritage Day Celebration
DESCRIPTION:110 Ceder Street\, Manchester\, CT
URL:https://www.uat3.accesshealthct.com/event/hispanic-heritage-day-celebration/
CATEGORIES:Broker Academy,Outreach
END:VEVENT
BEGIN:VEVENT
DTSTART;TZID=America/New_York:20230816T180000
DTEND;TZID=America/New_York:20230816T190000
DTSTAMP:20260422T020923
CREATED:20230106T143340Z
LAST-MODIFIED:20230106T143605Z
UID:10000150-1692208800-1692212400@www.uat3.accesshealthct.com
SUMMARY:Virtual Healthy Chat
DESCRIPTION:
URL:https://www.uat3.accesshealthct.com/event/virtual-healthy-chat-8/
CATEGORIES:Healthy Chat,Outreach
END:VEVENT
BEGIN:VEVENT
DTSTART;TZID=America/New_York:20230817T153000
DTEND;TZID=America/New_York:20230817T183000
DTSTAMP:20260422T020923
CREATED:20230801T101454Z
LAST-MODIFIED:20230801T101454Z
UID:10000193-1692286200-1692297000@www.uat3.accesshealthct.com
SUMMARY:East Hartford Back to School Rally
DESCRIPTION:
URL:https://www.uat3.accesshealthct.com/event/east-hartford-back-to-school-rally/
END:VEVENT
BEGIN:VEVENT
DTSTART;TZID=America/New_York:20230819T143000
DTEND;TZID=America/New_York:20230819T143000
DTSTAMP:20260422T020923
CREATED:20230801T101621Z
LAST-MODIFIED:20230801T101621Z
UID:10000205-1692455400-1692455400@www.uat3.accesshealthct.com
SUMMARY:100 Man March Health Fair
DESCRIPTION:
URL:https://www.uat3.accesshealthct.com/event/100-man-march-health-fair/
END:VEVENT
BEGIN:VEVENT
DTSTART;TZID=America/New_York:20230820T090000
DTEND;TZID=America/New_York:20230820T150000
DTSTAMP:20260422T020923
CREATED:20230801T101621Z
LAST-MODIFIED:20230801T101621Z
UID:10000206-1692522000-1692543600@www.uat3.accesshealthct.com
SUMMARY:Back To School Drive
DESCRIPTION:
URL:https://www.uat3.accesshealthct.com/event/back-to-school-drive/
END:VEVENT
END:VCALENDAR