 BEGIN:VCALENDAR
VERSION:2.0
PRODID:-//Access Health CT - ECPv6.3.2//NONSGML v1.0//EN
CALSCALE:GREGORIAN
METHOD:PUBLISH
X-WR-CALNAME:Access Health CT
X-ORIGINAL-URL:https://www.uat3.accesshealthct.com
X-WR-CALDESC:Events for Access Health CT
REFRESH-INTERVAL;VALUE=DURATION:PT1H
X-Robots-Tag:noindex
X-PUBLISHED-TTL:PT1H
BEGIN:VTIMEZONE
TZID:America/New_York
BEGIN:DAYLIGHT
TZOFFSETFROM:-0500
TZOFFSETTO:-0400
TZNAME:EDT
DTSTART:20230312T070000
END:DAYLIGHT
BEGIN:STANDARD
TZOFFSETFROM:-0400
TZOFFSETTO:-0500
TZNAME:EST
DTSTART:20231105T060000
END:STANDARD
END:VTIMEZONE
BEGIN:VEVENT
DTSTART;TZID=America/New_York:20231011T090000
DTEND;TZID=America/New_York:20231011T130000
DTSTAMP:20260422T003831
CREATED:20231003T112624Z
LAST-MODIFIED:20231003T112624Z
UID:10000225-1697014800-1697029200@www.uat3.accesshealthct.com
SUMMARY:Community Conference
DESCRIPTION:500 Sargent Dr\, New Haven\, CT 06511
URL:https://www.uat3.accesshealthct.com/event/community-conference/
CATEGORIES:Broker Academy,Outreach
END:VEVENT
BEGIN:VEVENT
DTSTART;TZID=America/New_York:20231013T110000
DTEND;TZID=America/New_York:20231013T150000
DTSTAMP:20260422T003831
CREATED:20231003T112745Z
LAST-MODIFIED:20231003T112745Z
UID:10000227-1697194800-1697209200@www.uat3.accesshealthct.com
SUMMARY:Hispanic Heritage Month
DESCRIPTION:Wheeler Clinic\, 43 Woodland St\, Hartford\, CT 06105
URL:https://www.uat3.accesshealthct.com/event/hispanic-heritage-month/
CATEGORIES:Broker Academy,Enrollment Fairs,Outreach
END:VEVENT
BEGIN:VEVENT
DTSTART;TZID=America/New_York:20231013T150000
DTEND;TZID=America/New_York:20231013T180000
DTSTAMP:20260422T003831
CREATED:20231003T112656Z
LAST-MODIFIED:20231003T112656Z
UID:10000226-1697209200-1697220000@www.uat3.accesshealthct.com
SUMMARY:Waterbury Regional Chamber Job Fair
DESCRIPTION:495 Union St\, Waterbury\, CT
URL:https://www.uat3.accesshealthct.com/event/waterbury-regional-chamber-job-fair/
CATEGORIES:Broker Academy,Enrollment Fairs,Outreach
END:VEVENT
END:VCALENDAR