 BEGIN:VCALENDAR
VERSION:2.0
PRODID:-//Access Health CT - ECPv6.3.2//NONSGML v1.0//EN
CALSCALE:GREGORIAN
METHOD:PUBLISH
X-WR-CALNAME:Access Health CT
X-ORIGINAL-URL:https://www.uat3.accesshealthct.com
X-WR-CALDESC:Events for Access Health CT
REFRESH-INTERVAL;VALUE=DURATION:PT1H
X-Robots-Tag:noindex
X-PUBLISHED-TTL:PT1H
BEGIN:VTIMEZONE
TZID:America/New_York
BEGIN:DAYLIGHT
TZOFFSETFROM:-0500
TZOFFSETTO:-0400
TZNAME:EDT
DTSTART:20230312T070000
END:DAYLIGHT
BEGIN:STANDARD
TZOFFSETFROM:-0400
TZOFFSETTO:-0500
TZNAME:EST
DTSTART:20231105T060000
END:STANDARD
END:VTIMEZONE
BEGIN:VEVENT
DTSTART;TZID=America/New_York:20231113T113000
DTEND;TZID=America/New_York:20231113T143000
DTSTAMP:20260422T021044
CREATED:20231026T085239Z
LAST-MODIFIED:20231026T085343Z
UID:10000251-1699875000-1699885800@www.uat3.accesshealthct.com
SUMMARY:TRCC
DESCRIPTION:574 New London Turnpike\, Norwich CT\, 06360
URL:https://www.uat3.accesshealthct.com/event/trcc/
CATEGORIES:Broker Academy,Enrollment Fairs,Outreach
END:VEVENT
BEGIN:VEVENT
DTSTART;TZID=America/New_York:20231113T170000
DTEND;TZID=America/New_York:20231113T200000
DTSTAMP:20260422T021044
CREATED:20231026T085147Z
LAST-MODIFIED:20231026T085147Z
UID:10000233-1699894800-1699905600@www.uat3.accesshealthct.com
SUMMARY:New London Open Enrollment Fair
DESCRIPTION:106 Truman Street New London\, CT 06320
URL:https://www.uat3.accesshealthct.com/event/new-london-open-enrollment-fair/
CATEGORIES:Enrollment Fairs
END:VEVENT
BEGIN:VEVENT
DTSTART;TZID=America/New_York:20231114T110000
DTEND;TZID=America/New_York:20231114T130000
DTSTAMP:20260422T021044
CREATED:20231026T085239Z
LAST-MODIFIED:20231026T085239Z
UID:10000252-1699959600-1699966800@www.uat3.accesshealthct.com
SUMMARY:Hartford Public Library Panel
DESCRIPTION:Main St\, Hartford
URL:https://www.uat3.accesshealthct.com/event/hartford-public-library-panel/
CATEGORIES:Enrollment Fairs
END:VEVENT
BEGIN:VEVENT
DTSTART;TZID=America/New_York:20231114T170000
DTEND;TZID=America/New_York:20231114T200000
DTSTAMP:20260422T021044
CREATED:20231026T085147Z
LAST-MODIFIED:20231026T085147Z
UID:10000234-1699981200-1699992000@www.uat3.accesshealthct.com
SUMMARY:Danbury Open Enrollment Fair
DESCRIPTION:358 Main Street Danbury\, CT 06810
URL:https://www.uat3.accesshealthct.com/event/danbury-open-enrollment-fair/
CATEGORIES:Enrollment Fairs
END:VEVENT
BEGIN:VEVENT
DTSTART;TZID=America/New_York:20231115T070000
DTEND;TZID=America/New_York:20231115T190000
DTSTAMP:20260422T021044
CREATED:20231026T085239Z
LAST-MODIFIED:20231026T085334Z
UID:10000253-1700031600-1700074800@www.uat3.accesshealthct.com
SUMMARY:2023 Big Connect
DESCRIPTION:155 Temple St\, New Haven\, CT 06510
URL:https://www.uat3.accesshealthct.com/event/2023-big-connect/
CATEGORIES:Broker Academy,Enrollment Fairs,Outreach
END:VEVENT
BEGIN:VEVENT
DTSTART;TZID=America/New_York:20231115T170000
DTEND;TZID=America/New_York:20231115T200000
DTSTAMP:20260422T021044
CREATED:20231026T085148Z
LAST-MODIFIED:20231106T094927Z
UID:10000235-1700067600-1700078400@www.uat3.accesshealthct.com
SUMMARY:New Haven Open Enrollment Fair
DESCRIPTION:Dixwell Community House (Q House)\nMuseum Room\, 2nd Floor\n197 Dixwell Avenue\, New Haven\, 06511
URL:https://www.uat3.accesshealthct.com/event/new-haven-open-enrollment-fair/
CATEGORIES:Enrollment Fairs
END:VEVENT
END:VCALENDAR